BEGIN:VCALENDAR
VERSION:2.0
PRODID:-//Domaine des Eucalyptus - Biodanza Réunion - ECPv4.9.9//NONSGML v1.0//EN
CALSCALE:GREGORIAN
METHOD:PUBLISH
X-WR-CALNAME:Domaine des Eucalyptus - Biodanza Réunion
X-ORIGINAL-URL:https://www.asso-liberte.com
X-WR-CALDESC:Évènements pour Domaine des Eucalyptus - Biodanza Réunion
BEGIN:VTIMEZONE
TZID:Indian/Reunion
BEGIN:STANDARD
TZOFFSETFROM:+0400
TZOFFSETTO:+0400
TZNAME:RET
DTSTART:20190101T000000
END:STANDARD
END:VTIMEZONE
BEGIN:VEVENT
DTSTART;TZID=Indian/Reunion:20190831T000000
DTEND;TZID=Indian/Reunion:20190901T000000
DTSTAMP:20260423T004553
CREATED:20190817T105939Z
LAST-MODIFIED:20190817T110332Z
UID:1514-1567209600-1567296000@www.asso-liberte.com
SUMMARY:Formation Massage CénesthésiC® avec Thinh Hoang-Van
DESCRIPTION:Le Massage CénesthésiC® : un chemin de sagesse et de bienveillance au cœur du corps et de l’esprit.\nDépliant avec les informations du stage: ICI\nCette approche favorise le ressenti interne\, elle contribue à l’équilibre et au bon fonctionnement psycho-corporel\, à l’émergence d’une conscience intérieure. \nElle invite à établir un cercle vertueux qui nous conduit vers une douce plongée dans les sensations cénesthésiques\, où « rien n’existe plus que ce que je ressens »\, là où l’enfoui affleure. \nLe mental pourra se mettre au repos\, lâcher ses attentes\, ses peurs et progresser dans l’accueil du ressenti.\nUne expérience de bienveillance simple et absolue\, pour entendre sa musique intérieure\, pour prendre un bain d’ocytocine\, l’hormone du plaisir et du bien-être\, que notre corps sécrète. \n   Thinh Hoang-van fondateur\, formateur\, praticien de la méthode de Massage CénesthésiC® a été formé en : Psychanalyse (Paris VIII)\, Psycho-sexologie (Paris XIII) et Sophrologie Caycédienne Andorre. Il a participé à l’enseignement de la sexologie à la faculté de médecine de Bobigny. Ses recherches sur le toucher et le massage remontent à 1983. \n
URL:https://www.asso-liberte.com/event/massage-cenesthesic-avec-thinh-hoang-van/
LOCATION:Domaine Eucalyptus\, 250 Georges Pompidou\, Saint Leu\, Réunion
END:VEVENT
END:VCALENDAR