BEGIN:VCALENDAR
VERSION:2.0
PRODID:-//Domaine des Eucalyptus - Biodanza Réunion - ECPv4.9.9//NONSGML v1.0//EN
CALSCALE:GREGORIAN
METHOD:PUBLISH
X-WR-CALNAME:Domaine des Eucalyptus - Biodanza Réunion
X-ORIGINAL-URL:https://www.asso-liberte.com
X-WR-CALDESC:Évènements pour Domaine des Eucalyptus - Biodanza Réunion
BEGIN:VTIMEZONE
TZID:Indian/Reunion
BEGIN:STANDARD
TZOFFSETFROM:+0400
TZOFFSETTO:+0400
TZNAME:RET
DTSTART:20190101T000000
END:STANDARD
END:VTIMEZONE
BEGIN:VEVENT
DTSTART;TZID=Indian/Reunion:20190827T183000
DTEND;TZID=Indian/Reunion:20190827T183000
DTSTAMP:20260422T225649
CREATED:20190827T103821Z
LAST-MODIFIED:20190827T103821Z
UID:1527-1566930600-1566930600@www.asso-liberte.com
SUMMARY:Séances de Yoga – Les Mardis\, 18h30\, avec Lysiane
DESCRIPTION: \n
URL:https://www.asso-liberte.com/event/seances-de-yoga-les-mardis-18h30-avec-lysiane/
LOCATION:Domaine Eucalyptus\, 250 Georges Pompidou\, Saint Leu\, Réunion
END:VEVENT
END:VCALENDAR