BEGIN:VCALENDAR
VERSION:2.0
PRODID:-//Domaine des Eucalyptus - Biodanza Réunion - ECPv4.9.9//NONSGML v1.0//EN
CALSCALE:GREGORIAN
METHOD:PUBLISH
X-WR-CALNAME:Domaine des Eucalyptus - Biodanza Réunion
X-ORIGINAL-URL:https://www.asso-liberte.com
X-WR-CALDESC:Évènements pour Domaine des Eucalyptus - Biodanza Réunion
BEGIN:VTIMEZONE
TZID:Indian/Reunion
BEGIN:STANDARD
TZOFFSETFROM:+0400
TZOFFSETTO:+0400
TZNAME:RET
DTSTART:20190101T000000
END:STANDARD
END:VTIMEZONE
BEGIN:VEVENT
DTSTART;VALUE=DATE:20190413
DTEND;VALUE=DATE:20190415
DTSTAMP:20260425T004413
CREATED:20170908T120459Z
LAST-MODIFIED:20190316T102339Z
UID:461-1555113600-1555286399@www.asso-liberte.com
SUMMARY:Stage de Yoga avec Sandra Grange
DESCRIPTION: \n  \n
URL:https://www.asso-liberte.com/event/stage-de-yoga-sandra-grange/
LOCATION:Domaine Eucalyptus\, 250 Georges Pompidou\, Saint Leu\, Réunion
END:VEVENT
END:VCALENDAR